BEGIN:VCALENDAR
VERSION:2.0
PRODID:-//hacksw/handcal//NONSGML v1.0//EN
CALSCALE:GREGORIAN
BEGIN:VEVENT
DESCRIPTION:Anderson Ranch Editions will be on display at the Aspen Art Fair\, featuring remarkable works by world-renowned artists\, including Felipe Baeza\, David A. Cruz\, Simon Haas\, Robert Kushner\, Steve Locke\, and Harry Teague\, among others. Visit the work at the Hotel Jerome or view the online gallery.  About the Aspen Art Fair  The Aspen Art Fair is a one-of-a-kind art\, design\, luxury travel\, and hospitality takeover at the historic Hotel Jerome located in the heart of downtown Aspen. The Fair takes place each summer during Aspen Art Week\, a critical moment on the art world calendar bringing artists\, curators\, gallerists\, and collectors from around the world to this small mountain enclave.  About the Anderson Ranch Editions Program Since 1978\, top contemporary artists have visited Anderson Ranch Arts Center’s Patton Print Shop and produced high-quality artwork. In the Patton Print Shop\, artists have the opportunity to experiment with their ideas in new ways\, incorporating cutting-edge technology with traditional print processes. This supported experimentation helps artists to grow and connect\, expanding the horizons of the Anderson Ranch community.If you have questions about the Anderson Ranch Editions program or would like help with a purchase\, please email are@andersonranch.org\, or call 970.923.3181.
LOCATION:The Hotel Jerome
DTSTART:20250729
DTEND:20250802
SUMMARY:Aspen Art Fair
DTSTAMP:20260424T114050Z
UID:69ebab220335c
END:VEVENT
END:VCALENDAR