BEGIN:VCALENDAR
VERSION:2.0
PRODID:-//hacksw/handcal//NONSGML v1.0//EN
CALSCALE:GREGORIAN
BEGIN:VEVENT
DESCRIPTION:Join us for a conversation with our Summer Interns.  Register for this free event and join us at Schermer Meeting Hall. We’re thrilled to welcome sixteen new interns to the Ranch this summer. During their time here\, interns have the opportunity not only to assist in workshops\, events\, and special projects\, but also to work with and meet artists and gifted instructors in a supportive community. Come meet our newest Ranch family members and help them uncover\, develop\, and stretch their creative spirits in the visual arts!
LOCATION:
DTSTART:20260526T230000Z
DTEND:20260527T000000Z
SUMMARY:Intern Slide Night
DTSTAMP:20260424T130856Z
UID:69ebbfc8c261f
END:VEVENT
END:VCALENDAR