BEGIN:VCALENDAR
VERSION:2.0
PRODID:-//hacksw/handcal//NONSGML v1.0//EN
CALSCALE:GREGORIAN
BEGIN:VEVENT
DESCRIPTION:The Critical Dialog Program at Anderson Ranch seeks to engage the community in lively discussion about contemporary art and art making. Join Curator Larry Ossei-Mensah and artist Hugo McCloud on a journey through the impact of our surroundings on the artistic practice and the use of under-appreciated materials to elicit and investigate notions of beauty. Topics concerning the economics of labor\, geopolitics and the environmental impact of the materials McCloud employs in his work will be explored\, as well as the work of other artists who engage in this vital conversation. Participants will be led through interactive art-making exercises to explore some of these unconventional materials. This workshop takes place in Schermer Meeting Hall and consists of lectures and interactive art-making exercises.
LOCATION:
DTSTART:20210802T160000Z
DTEND:20210803T203000Z
SUMMARY:Critical Dialogue: <br>Labor\, Environment\, Place: An Artist’s Response
DTSTAMP:20260424T195641Z
UID:69ec1f592781b
END:VEVENT
END:VCALENDAR