BEGIN:VCALENDAR
VERSION:2.0
PRODID:-//hacksw/handcal//NONSGML v1.0//EN
CALSCALE:GREGORIAN
BEGIN:VEVENT
DESCRIPTION:Sunday and Tuesday evenings\, June through September\, the Ranch features a 60-minute presentation by distinguished faculty members and Visiting Artists. These insightful talks dive into inspiration\, the creative process and more. The presentations are free and open to the public\, however registration is required for in-person attendance.  Can’t make it in person? CLICK HERE for a livestream YouTube link to view the program virtually.
LOCATION:Schermer Meeting Hall
DTSTART:20210721T010000Z
DTEND:20210721T020000Z
SUMMARY:Guest Faculty Lecture: Catherine Opie\, Helen Molesworth and Christina Quarles
DTSTAMP:20260421T000153Z
UID:69e712d12b093
END:VEVENT
END:VCALENDAR